BEGIN:VCALENDAR
VERSION:2.0
PRODID:-//eventon.com NONSGML v1.0//EN
CALSCALE:GREGORIAN
METHOD:PUBLISH
BEGIN:VEVENT
UID:69e4f4add4e15
DTSTAMP:20260419T152845Z
DTSTART:20260101T013000Z
DTEND:20260101T050000Z
LOCATION:The Kentucky Castle 230 Pisgah Pike
SUMMARY:New Year's Eve: The Black & White Ball
DESCRIPTION:Ring in the New Year at The Kentucky Castle for a Masquerade Bl
 ack and White Ball presented by True Story Whiskeys! General Admission tick
 ets include hors d&#8217;oeuvres\,  late-night snacks\,  a charcuterie graz
 ing table\,  a dessert table\,  a signature drink\,  and a champagne toast 
 at midnight. Dance the night away with[..]\nhttps://truestorywhiskey.com/ev
 ents/newyearseve/
URL:https://truestorywhiskey.com/events/newyearseve/
END:VEVENT
END:VCALENDAR